BEGIN:VCALENDAR
VERSION:2.0
PRODID:-//jEvents 2.0 for Joomla//EN
CALSCALE:GREGORIAN
METHOD:PUBLISH
BEGIN:VTIMEZONE
TZID:America/New_York
END:VTIMEZONE
BEGIN:VEVENT
UID:1e19525f89cecc7a42c6a5fd6e4cb82c
CATEGORIES:Holiday
CREATED:20221102T163208
SUMMARY:New Years Eve!
DESCRIPTION;ENCODING=QUOTED-PRINTABLE:\n\nNew Year's Eve!\n This event was imported from: https://www.saintandrew
 s56nh.com/index.php/calendar/eventdetail/3498/-/new-years-eve?tmpl=componen
 t
DTSTAMP:20260422T041919Z
DTSTART;TZID=America/New_York;VALUE=DATE:20331231
DTEND;TZID=America/New_York;VALUE=DATE:20340101
SEQUENCE:0
TRANSP:OPAQUE
END:VEVENT
END:VCALENDAR