BEGIN:VCALENDAR
VERSION:2.0
PRODID:-//jEvents 2.0 for Joomla//EN
CALSCALE:GREGORIAN
METHOD:PUBLISH
BEGIN:VTIMEZONE
TZID:America/New_York
BEGIN:STANDARD
DTSTART:20311213T180000
RDATE:20320314T030000
TZOFFSETFROM:-0400
TZOFFSETTO:-0500
TZNAME:America/New_York EST
END:STANDARD
END:VTIMEZONE
BEGIN:VEVENT
UID:f9496c40d4ab4812c5f1d4da130f3e3f
CATEGORIES:Blue Lodge
CREATED:20210817T170426
SUMMARY:Stated Communication
DESCRIPTION;ENCODING=QUOTED-PRINTABLE:\n\nSaint Andrews Stated Communication. 351 Middle Street, Portsmouth, NH. 
 Dinner begins at 6:00, business at 7:00.\n This event was imported from: ht
 tps://www.saintandrews56nh.com/index.php/calendar/eventdetail/1263/-/stated
 -communication?tmpl=component
DTSTAMP:20260422T060804Z
DTSTART;TZID=America/New_York:20321213T180000
SEQUENCE:0
TRANSP:OPAQUE
END:VEVENT
END:VCALENDAR